BEGIN:VCALENDAR
VERSION:2.0
PRODID:-//Notary.net - ECPv6.15.20//NONSGML v1.0//EN
CALSCALE:GREGORIAN
METHOD:PUBLISH
X-ORIGINAL-URL:https://notary.net
X-WR-CALDESC:Events for Notary.net
REFRESH-INTERVAL;VALUE=DURATION:PT1H
X-Robots-Tag:noindex
X-PUBLISHED-TTL:PT1H
BEGIN:VTIMEZONE
TZID:America/Chicago
BEGIN:DAYLIGHT
TZOFFSETFROM:-0600
TZOFFSETTO:-0500
TZNAME:CDT
DTSTART:20250309T080000
END:DAYLIGHT
BEGIN:STANDARD
TZOFFSETFROM:-0500
TZOFFSETTO:-0600
TZNAME:CST
DTSTART:20251102T070000
END:STANDARD
BEGIN:DAYLIGHT
TZOFFSETFROM:-0600
TZOFFSETTO:-0500
TZNAME:CDT
DTSTART:20260308T080000
END:DAYLIGHT
BEGIN:STANDARD
TZOFFSETFROM:-0500
TZOFFSETTO:-0600
TZNAME:CST
DTSTART:20261101T070000
END:STANDARD
BEGIN:DAYLIGHT
TZOFFSETFROM:-0600
TZOFFSETTO:-0500
TZNAME:CDT
DTSTART:20270314T080000
END:DAYLIGHT
BEGIN:STANDARD
TZOFFSETFROM:-0500
TZOFFSETTO:-0600
TZNAME:CST
DTSTART:20271107T070000
END:STANDARD
END:VTIMEZONE
BEGIN:VEVENT
DTSTART;VALUE=DATE:20260516
DTEND;VALUE=DATE:20260517
DTSTAMP:20260424T215053
CREATED:20250121T225033Z
LAST-MODIFIED:20260424T215222Z
UID:10000796-1778889600-1778975999@notary.net
SUMMARY:Live California Notary Class - Sacramento
DESCRIPTION:Follow this link to register for your in-person notary class: https://www.NotaryLearningCenter.com/ca/npNotary_seminar_15.html 
URL:https://notary.net/seminar/live-california-notary-class-sacramento/2026-05-16/
LOCATION:Sacramento – Holiday Inn Express & Suites\, 2224 Auburn Boulevard\, Sacramneto\, 95821\, United States
ORGANIZER;CN="Notary Learning Center":MAILTO:seminars@NotaryLearningCenter.com
GEO:38.6248269;-121.4138195
X-APPLE-STRUCTURED-LOCATION;VALUE=URI;X-ADDRESS=Sacramento – Holiday Inn Express & Suites 2224 Auburn Boulevard Sacramneto 95821 United States;X-APPLE-RADIUS=500;X-TITLE=2224 Auburn Boulevard:geo:-121.4138195,38.6248269
END:VEVENT
BEGIN:VEVENT
DTSTART;VALUE=DATE:20260627
DTEND;VALUE=DATE:20260628
DTSTAMP:20260424T215053
CREATED:20250121T225033Z
LAST-MODIFIED:20260424T215222Z
UID:10000797-1782545400-1782579600@notary.net
SUMMARY:Live California Notary Class - Sacramento
DESCRIPTION:Follow this link to register for your in-person notary class: https://www.NotaryLearningCenter.com/ca/npNotary_seminar_15.html 
URL:https://notary.net/seminar/live-california-notary-class-sacramento/2026-06-27/
LOCATION:Sacramento – Holiday Inn Express & Suites\, 2224 Auburn Boulevard\, Sacramneto\, 95821\, United States
ORGANIZER;CN="Notary Learning Center":MAILTO:seminars@NotaryLearningCenter.com
GEO:38.6248269;-121.4138195
X-APPLE-STRUCTURED-LOCATION;VALUE=URI;X-ADDRESS=Sacramento – Holiday Inn Express & Suites 2224 Auburn Boulevard Sacramneto 95821 United States;X-APPLE-RADIUS=500;X-TITLE=2224 Auburn Boulevard:geo:-121.4138195,38.6248269
END:VEVENT
END:VCALENDAR