BEGIN:VCALENDAR
VERSION:2.0
PRODID:-//Notary.net - ECPv6.15.20//NONSGML v1.0//EN
CALSCALE:GREGORIAN
METHOD:PUBLISH
X-WR-CALNAME:Notary.net
X-ORIGINAL-URL:https://notary.net
X-WR-CALDESC:Events for Notary.net
REFRESH-INTERVAL;VALUE=DURATION:PT1H
X-Robots-Tag:noindex
X-PUBLISHED-TTL:PT1H
BEGIN:VTIMEZONE
TZID:America/Chicago
BEGIN:DAYLIGHT
TZOFFSETFROM:-0600
TZOFFSETTO:-0500
TZNAME:CDT
DTSTART:20250309T080000
END:DAYLIGHT
BEGIN:STANDARD
TZOFFSETFROM:-0500
TZOFFSETTO:-0600
TZNAME:CST
DTSTART:20251102T070000
END:STANDARD
BEGIN:DAYLIGHT
TZOFFSETFROM:-0600
TZOFFSETTO:-0500
TZNAME:CDT
DTSTART:20260308T080000
END:DAYLIGHT
BEGIN:STANDARD
TZOFFSETFROM:-0500
TZOFFSETTO:-0600
TZNAME:CST
DTSTART:20261101T070000
END:STANDARD
BEGIN:DAYLIGHT
TZOFFSETFROM:-0600
TZOFFSETTO:-0500
TZNAME:CDT
DTSTART:20270314T080000
END:DAYLIGHT
BEGIN:STANDARD
TZOFFSETFROM:-0500
TZOFFSETTO:-0600
TZNAME:CST
DTSTART:20271107T070000
END:STANDARD
END:VTIMEZONE
BEGIN:VEVENT
DTSTART;VALUE=DATE:20260307
DTEND;VALUE=DATE:20260308
DTSTAMP:20260424T193203
CREATED:20250121T223317Z
LAST-MODIFIED:20260109T234520Z
UID:10000742-1772868600-1772902800@notary.net
SUMMARY:Live California Notary Class - Ontario
DESCRIPTION:Follow this link to register for your in-person notary class: https://www.NotaryLearningCenter.com/ca/npNotary_seminar_17.html
URL:https://notary.net/seminar/live-california-notary-class-ontario/2026-03-07/
LOCATION:Ontario – Holiday Inn\, 2155 E. Convention Center Way\, Ontario\, CA\, 91764\, United States
ORGANIZER;CN="Notary Learning Center":MAILTO:seminars@NotaryLearningCenter.com
GEO:34.0663319;-117.6023172
X-APPLE-STRUCTURED-LOCATION;VALUE=URI;X-ADDRESS=Ontario – Holiday Inn 2155 E. Convention Center Way Ontario CA 91764 United States;X-APPLE-RADIUS=500;X-TITLE=2155 E. Convention Center Way:geo:-117.6023172,34.0663319
END:VEVENT
BEGIN:VEVENT
DTSTART;VALUE=DATE:20260203
DTEND;VALUE=DATE:20260204
DTSTAMP:20260424T193203
CREATED:20250121T223317Z
LAST-MODIFIED:20260109T234520Z
UID:10000741-1770076800-1770163199@notary.net
SUMMARY:Live California Notary Class - Ontario
DESCRIPTION:Follow this link to register for your in-person notary class: https://www.NotaryLearningCenter.com/ca/npNotary_seminar_17.html
URL:https://notary.net/seminar/live-california-notary-class-ontario/2026-02-03/
LOCATION:Ontario – Holiday Inn\, 2155 E. Convention Center Way\, Ontario\, CA\, 91764\, United States
ORGANIZER;CN="Notary Learning Center":MAILTO:seminars@NotaryLearningCenter.com
GEO:34.0663319;-117.6023172
X-APPLE-STRUCTURED-LOCATION;VALUE=URI;X-ADDRESS=Ontario – Holiday Inn 2155 E. Convention Center Way Ontario CA 91764 United States;X-APPLE-RADIUS=500;X-TITLE=2155 E. Convention Center Way:geo:-117.6023172,34.0663319
END:VEVENT
END:VCALENDAR