BEGIN:VCALENDAR
VERSION:2.0
PRODID:-//Notary.net - ECPv6.15.20//NONSGML v1.0//EN
CALSCALE:GREGORIAN
METHOD:PUBLISH
X-ORIGINAL-URL:https://notary.net
X-WR-CALDESC:Events for Notary.net
REFRESH-INTERVAL;VALUE=DURATION:PT1H
X-Robots-Tag:noindex
X-PUBLISHED-TTL:PT1H
BEGIN:VTIMEZONE
TZID:America/Chicago
BEGIN:DAYLIGHT
TZOFFSETFROM:-0600
TZOFFSETTO:-0500
TZNAME:CDT
DTSTART:20250309T080000
END:DAYLIGHT
BEGIN:STANDARD
TZOFFSETFROM:-0500
TZOFFSETTO:-0600
TZNAME:CST
DTSTART:20251102T070000
END:STANDARD
BEGIN:DAYLIGHT
TZOFFSETFROM:-0600
TZOFFSETTO:-0500
TZNAME:CDT
DTSTART:20260308T080000
END:DAYLIGHT
BEGIN:STANDARD
TZOFFSETFROM:-0500
TZOFFSETTO:-0600
TZNAME:CST
DTSTART:20261101T070000
END:STANDARD
BEGIN:DAYLIGHT
TZOFFSETFROM:-0600
TZOFFSETTO:-0500
TZNAME:CDT
DTSTART:20270314T080000
END:DAYLIGHT
BEGIN:STANDARD
TZOFFSETFROM:-0500
TZOFFSETTO:-0600
TZNAME:CST
DTSTART:20271107T070000
END:STANDARD
END:VTIMEZONE
BEGIN:VEVENT
DTSTART;VALUE=DATE:20260507
DTEND;VALUE=DATE:20260508
DTSTAMP:20260425T090658
CREATED:20240906T181609Z
LAST-MODIFIED:20260422T141845Z
UID:10000766-1778112000-1778198399@notary.net
SUMMARY:Live California Notary Class - Glendale
DESCRIPTION:
URL:https://notary.net/seminar/live-california-notary-class-glendale-ca-2/2026-05-07/
LOCATION:Glendale – Embassy Suites\, 800 North Central Avenue\, Glendale\, CA\, 91203\, United States
ORGANIZER;CN="Notary Learning Center":MAILTO:seminars@NotaryLearningCenter.com
GEO:34.1577555;-118.257596
X-APPLE-STRUCTURED-LOCATION;VALUE=URI;X-ADDRESS=Glendale – Embassy Suites 800 North Central Avenue Glendale CA 91203 United States;X-APPLE-RADIUS=500;X-TITLE=800 North Central Avenue:geo:-118.257596,34.1577555
END:VEVENT
BEGIN:VEVENT
DTSTART;VALUE=DATE:20260530
DTEND;VALUE=DATE:20260531
DTSTAMP:20260425T090658
CREATED:20240906T181609Z
LAST-MODIFIED:20260422T141845Z
UID:10000767-1780128000-1780160400@notary.net
SUMMARY:Live California Notary Class - Glendale
DESCRIPTION:
URL:https://notary.net/seminar/live-california-notary-class-glendale-ca-2/2026-05-30/
LOCATION:Glendale – Embassy Suites\, 800 North Central Avenue\, Glendale\, CA\, 91203\, United States
ORGANIZER;CN="Notary Learning Center":MAILTO:seminars@NotaryLearningCenter.com
GEO:34.1577555;-118.257596
X-APPLE-STRUCTURED-LOCATION;VALUE=URI;X-ADDRESS=Glendale – Embassy Suites 800 North Central Avenue Glendale CA 91203 United States;X-APPLE-RADIUS=500;X-TITLE=800 North Central Avenue:geo:-118.257596,34.1577555
END:VEVENT
BEGIN:VEVENT
DTSTART;VALUE=DATE:20260623
DTEND;VALUE=DATE:20260624
DTSTAMP:20260425T090658
CREATED:20240906T181609Z
LAST-MODIFIED:20260422T141845Z
UID:10000768-1782201600-1782234000@notary.net
SUMMARY:Live California Notary Class - Glendale
DESCRIPTION:
URL:https://notary.net/seminar/live-california-notary-class-glendale-ca-2/2026-06-23/
LOCATION:Glendale – Embassy Suites\, 800 North Central Avenue\, Glendale\, CA\, 91203\, United States
ORGANIZER;CN="Notary Learning Center":MAILTO:seminars@NotaryLearningCenter.com
GEO:34.1577555;-118.257596
X-APPLE-STRUCTURED-LOCATION;VALUE=URI;X-ADDRESS=Glendale – Embassy Suites 800 North Central Avenue Glendale CA 91203 United States;X-APPLE-RADIUS=500;X-TITLE=800 North Central Avenue:geo:-118.257596,34.1577555
END:VEVENT
END:VCALENDAR