BEGIN:VCALENDAR
VERSION:2.0
PRODID:-//Notary.net - ECPv6.15.20//NONSGML v1.0//EN
CALSCALE:GREGORIAN
METHOD:PUBLISH
X-WR-CALNAME:Notary.net
X-ORIGINAL-URL:https://notary.net
X-WR-CALDESC:Events for Notary.net
REFRESH-INTERVAL;VALUE=DURATION:PT1H
X-Robots-Tag:noindex
X-PUBLISHED-TTL:PT1H
BEGIN:VTIMEZONE
TZID:America/Chicago
BEGIN:DAYLIGHT
TZOFFSETFROM:-0600
TZOFFSETTO:-0500
TZNAME:CDT
DTSTART:20250309T080000
END:DAYLIGHT
BEGIN:STANDARD
TZOFFSETFROM:-0500
TZOFFSETTO:-0600
TZNAME:CST
DTSTART:20251102T070000
END:STANDARD
BEGIN:DAYLIGHT
TZOFFSETFROM:-0600
TZOFFSETTO:-0500
TZNAME:CDT
DTSTART:20260308T080000
END:DAYLIGHT
BEGIN:STANDARD
TZOFFSETFROM:-0500
TZOFFSETTO:-0600
TZNAME:CST
DTSTART:20261101T070000
END:STANDARD
BEGIN:DAYLIGHT
TZOFFSETFROM:-0600
TZOFFSETTO:-0500
TZNAME:CDT
DTSTART:20270314T080000
END:DAYLIGHT
BEGIN:STANDARD
TZOFFSETFROM:-0500
TZOFFSETTO:-0600
TZNAME:CST
DTSTART:20271107T070000
END:STANDARD
END:VTIMEZONE
BEGIN:VEVENT
DTSTART;VALUE=DATE:20260502
DTEND;VALUE=DATE:20260503
DTSTAMP:20260423T160208
CREATED:20260422T211526Z
LAST-MODIFIED:20260422T211526Z
UID:10000788-1777680000-1777766399@notary.net
SUMMARY:Live California Notary Class - Rancho Cucamonga
DESCRIPTION:
URL:https://notary.net/seminar/live-california-notary-class-rancho-cucamonga/2026-05-02/
LOCATION:Four Points by Sheraton – Rancho Cucamonga\, 11960 Foothill Boulevard\, Rancho Cucamonga\, 91739\, United States
ORGANIZER;CN="Notary Learning Center":MAILTO:seminars@NotaryLearningCenter.com
GEO:34.1069807;-117.542843
X-APPLE-STRUCTURED-LOCATION;VALUE=URI;X-ADDRESS=Four Points by Sheraton – Rancho Cucamonga 11960 Foothill Boulevard Rancho Cucamonga 91739 United States;X-APPLE-RADIUS=500;X-TITLE=11960 Foothill Boulevard:geo:-117.542843,34.1069807
END:VEVENT
BEGIN:VEVENT
DTSTART;VALUE=DATE:20260609
DTEND;VALUE=DATE:20260610
DTSTAMP:20260423T160208
CREATED:20260422T211526Z
LAST-MODIFIED:20260422T211526Z
UID:10000789-1780992000-1781024400@notary.net
SUMMARY:Live California Notary Class - Rancho Cucamonga
DESCRIPTION:
URL:https://notary.net/seminar/live-california-notary-class-rancho-cucamonga/2026-06-09/
LOCATION:Four Points by Sheraton – Rancho Cucamonga\, 11960 Foothill Boulevard\, Rancho Cucamonga\, 91739\, United States
ORGANIZER;CN="Notary Learning Center":MAILTO:seminars@NotaryLearningCenter.com
GEO:34.1069807;-117.542843
X-APPLE-STRUCTURED-LOCATION;VALUE=URI;X-ADDRESS=Four Points by Sheraton – Rancho Cucamonga 11960 Foothill Boulevard Rancho Cucamonga 91739 United States;X-APPLE-RADIUS=500;X-TITLE=11960 Foothill Boulevard:geo:-117.542843,34.1069807
END:VEVENT
END:VCALENDAR