BEGIN:VCALENDAR
VERSION:2.0
PRODID:-//Notary.net - ECPv6.15.20//NONSGML v1.0//EN
CALSCALE:GREGORIAN
METHOD:PUBLISH
X-ORIGINAL-URL:https://notary.net
X-WR-CALDESC:Events for Notary.net
REFRESH-INTERVAL;VALUE=DURATION:PT1H
X-Robots-Tag:noindex
X-PUBLISHED-TTL:PT1H
BEGIN:VTIMEZONE
TZID:America/Chicago
BEGIN:DAYLIGHT
TZOFFSETFROM:-0600
TZOFFSETTO:-0500
TZNAME:CDT
DTSTART:20250309T080000
END:DAYLIGHT
BEGIN:STANDARD
TZOFFSETFROM:-0500
TZOFFSETTO:-0600
TZNAME:CST
DTSTART:20251102T070000
END:STANDARD
BEGIN:DAYLIGHT
TZOFFSETFROM:-0600
TZOFFSETTO:-0500
TZNAME:CDT
DTSTART:20260308T080000
END:DAYLIGHT
BEGIN:STANDARD
TZOFFSETFROM:-0500
TZOFFSETTO:-0600
TZNAME:CST
DTSTART:20261101T070000
END:STANDARD
BEGIN:DAYLIGHT
TZOFFSETFROM:-0600
TZOFFSETTO:-0500
TZNAME:CDT
DTSTART:20270314T080000
END:DAYLIGHT
BEGIN:STANDARD
TZOFFSETFROM:-0500
TZOFFSETTO:-0600
TZNAME:CST
DTSTART:20271107T070000
END:STANDARD
END:VTIMEZONE
BEGIN:VEVENT
DTSTART;VALUE=DATE:20260512
DTEND;VALUE=DATE:20260513
DTSTAMP:20260424T105716
CREATED:20250616T221606Z
LAST-MODIFIED:20260422T140308Z
UID:10000763-1778544000-1778630399@notary.net
SUMMARY:Live California Notary Class – Brea
DESCRIPTION:
URL:https://notary.net/seminar/live-california-notary-class-brea/2026-05-12/
LOCATION:Embassy Suites – Brea\, 900 E. Birch Street\, Brea\, 92821\, United States
ORGANIZER;CN="Notary Learning Center":MAILTO:seminars@NotaryLearningCenter.com
GEO:33.9173873;-117.8876324
X-APPLE-STRUCTURED-LOCATION;VALUE=URI;X-ADDRESS=Embassy Suites – Brea 900 E. Birch Street Brea 92821 United States;X-APPLE-RADIUS=500;X-TITLE=900 E. Birch Street:geo:-117.8876324,33.9173873
END:VEVENT
BEGIN:VEVENT
DTSTART;VALUE=DATE:20260514
DTEND;VALUE=DATE:20260515
DTSTAMP:20260424T105716
CREATED:20250121T205722Z
LAST-MODIFIED:20260422T142303Z
UID:10000769-1778716800-1778803199@notary.net
SUMMARY:Live California Notary Class – San Mateo
DESCRIPTION:
URL:https://notary.net/seminar/live-california-notary-class-san-mateo-2/2026-05-14/
LOCATION:San Mateo – Hilton Garden Inn\, 2000 Bridgepointe Circle\, San Mateo\, CA\, 94404\, United States
ORGANIZER;CN="Notary Learning Center":MAILTO:seminars@NotaryLearningCenter.com
GEO:37.5640221;-122.282264
X-APPLE-STRUCTURED-LOCATION;VALUE=URI;X-ADDRESS=San Mateo – Hilton Garden Inn 2000 Bridgepointe Circle San Mateo CA 94404 United States;X-APPLE-RADIUS=500;X-TITLE=2000 Bridgepointe Circle:geo:-122.282264,37.5640221
END:VEVENT
BEGIN:VEVENT
DTSTART;VALUE=DATE:20260516
DTEND;VALUE=DATE:20260517
DTSTAMP:20260424T105716
CREATED:20260422T151620Z
LAST-MODIFIED:20260422T151930Z
UID:10000780-1778889600-1778975999@notary.net
SUMMARY:Live California Notary Class - Santa Ana
DESCRIPTION:
URL:https://notary.net/seminar/live-california-notary-class-santa-ana/
LOCATION:Holiday Inn – Orange County Airport\, 2726 S. Grand Avenue\, Santa Ana\, 92705\, United States
ORGANIZER;CN="Notary Learning Center":MAILTO:seminars@NotaryLearningCenter.com
GEO:33.7101073;-117.8519885
X-APPLE-STRUCTURED-LOCATION;VALUE=URI;X-ADDRESS=Holiday Inn – Orange County Airport 2726 S. Grand Avenue Santa Ana 92705 United States;X-APPLE-RADIUS=500;X-TITLE=2726 S. Grand Avenue:geo:-117.8519885,33.7101073
END:VEVENT
END:VCALENDAR