BEGIN:VCALENDAR
VERSION:2.0
PRODID:-//Notary.net - ECPv6.15.20//NONSGML v1.0//EN
CALSCALE:GREGORIAN
METHOD:PUBLISH
X-WR-CALNAME:Notary.net
X-ORIGINAL-URL:https://notary.net
X-WR-CALDESC:Events for Notary.net
REFRESH-INTERVAL;VALUE=DURATION:PT1H
X-Robots-Tag:noindex
X-PUBLISHED-TTL:PT1H
BEGIN:VTIMEZONE
TZID:America/Chicago
BEGIN:DAYLIGHT
TZOFFSETFROM:-0600
TZOFFSETTO:-0500
TZNAME:CDT
DTSTART:20250309T080000
END:DAYLIGHT
BEGIN:STANDARD
TZOFFSETFROM:-0500
TZOFFSETTO:-0600
TZNAME:CST
DTSTART:20251102T070000
END:STANDARD
BEGIN:DAYLIGHT
TZOFFSETFROM:-0600
TZOFFSETTO:-0500
TZNAME:CDT
DTSTART:20260308T080000
END:DAYLIGHT
BEGIN:STANDARD
TZOFFSETFROM:-0500
TZOFFSETTO:-0600
TZNAME:CST
DTSTART:20261101T070000
END:STANDARD
BEGIN:DAYLIGHT
TZOFFSETFROM:-0600
TZOFFSETTO:-0500
TZNAME:CDT
DTSTART:20270314T080000
END:DAYLIGHT
BEGIN:STANDARD
TZOFFSETFROM:-0500
TZOFFSETTO:-0600
TZNAME:CST
DTSTART:20271107T070000
END:STANDARD
END:VTIMEZONE
BEGIN:VEVENT
DTSTART;VALUE=DATE:20260611
DTEND;VALUE=DATE:20260612
DTSTAMP:20260424T185951
CREATED:20260109T232611Z
LAST-MODIFIED:20260422T193315Z
UID:10000735-1781136000-1781222399@notary.net
SUMMARY:Live California Notary Class – Irvine
DESCRIPTION:Follow this link to register for your in-person notary class: https://www.NotaryLearningCenter.com/ca/npNotary_seminar_13.html 
URL:https://notary.net/seminar/live-california-notary-class-irvine/
LOCATION:Irving – Hilton Garden Inn\, 2381 Morse Avenue\, Irvine\, CA\, 92614\, United States
CATEGORIES:California,California Notary Class,California Notary Exam
ORGANIZER;CN="Notary Learning Center":MAILTO:seminars@NotaryLearningCenter.com
GEO:33.6805868;-117.8486344
X-APPLE-STRUCTURED-LOCATION;VALUE=URI;X-ADDRESS=Irving – Hilton Garden Inn 2381 Morse Avenue Irvine CA 92614 United States;X-APPLE-RADIUS=500;X-TITLE=2381 Morse Avenue:geo:-117.8486344,33.6805868
END:VEVENT
BEGIN:VEVENT
DTSTART;VALUE=DATE:20260611
DTEND;VALUE=DATE:20260612
DTSTAMP:20260424T185951
CREATED:20250121T205722Z
LAST-MODIFIED:20260422T142303Z
UID:10000770-1781164800-1781197200@notary.net
SUMMARY:Live California Notary Class – San Mateo
DESCRIPTION:
URL:https://notary.net/seminar/live-california-notary-class-san-mateo-2/2026-06-11/
LOCATION:San Mateo – Hilton Garden Inn\, 2000 Bridgepointe Circle\, San Mateo\, CA\, 94404\, United States
ORGANIZER;CN="Notary Learning Center":MAILTO:seminars@NotaryLearningCenter.com
GEO:37.5640221;-122.282264
X-APPLE-STRUCTURED-LOCATION;VALUE=URI;X-ADDRESS=San Mateo – Hilton Garden Inn 2000 Bridgepointe Circle San Mateo CA 94404 United States;X-APPLE-RADIUS=500;X-TITLE=2000 Bridgepointe Circle:geo:-122.282264,37.5640221
END:VEVENT
BEGIN:VEVENT
DTSTART;VALUE=DATE:20260613
DTEND;VALUE=DATE:20260614
DTSTAMP:20260424T185951
CREATED:20250616T221606Z
LAST-MODIFIED:20260422T140308Z
UID:10000764-1781337600-1781370000@notary.net
SUMMARY:Live California Notary Class – Brea
DESCRIPTION:
URL:https://notary.net/seminar/live-california-notary-class-brea/2026-06-13/
LOCATION:Embassy Suites – Brea\, 900 E. Birch Street\, Brea\, 92821\, United States
ORGANIZER;CN="Notary Learning Center":MAILTO:seminars@NotaryLearningCenter.com
GEO:33.9173873;-117.8876324
X-APPLE-STRUCTURED-LOCATION;VALUE=URI;X-ADDRESS=Embassy Suites – Brea 900 E. Birch Street Brea 92821 United States;X-APPLE-RADIUS=500;X-TITLE=900 E. Birch Street:geo:-117.8876324,33.9173873
END:VEVENT
BEGIN:VEVENT
DTSTART;VALUE=DATE:20260616
DTEND;VALUE=DATE:20260617
DTSTAMP:20260424T185951
CREATED:20250121T223557Z
LAST-MODIFIED:20260422T213846Z
UID:10000791-1781595000-1781629200@notary.net
SUMMARY:Live California Notary Class - Oxnard
DESCRIPTION:Follow this link to register for your in-person notary class: https://www.NotaryLearningCenter.com/ca/npNotary_seminar_11.html 
URL:https://notary.net/seminar/live-california-notary-class-oxnard/2026-06-16/
LOCATION:Oxnard – Holiday Inn\, 2155 E. Convention Center Way\, Oxnard\, CA\, 93036\, United States
ORGANIZER;CN="Notary Learning Center":MAILTO:seminars@NotaryLearningCenter.com
GEO:34.2328937;-119.179765
X-APPLE-STRUCTURED-LOCATION;VALUE=URI;X-ADDRESS=Oxnard – Holiday Inn 2155 E. Convention Center Way Oxnard CA 93036 United States;X-APPLE-RADIUS=500;X-TITLE=2155 E. Convention Center Way:geo:-119.179765,34.2328937
END:VEVENT
BEGIN:VEVENT
DTSTART;VALUE=DATE:20260617
DTEND;VALUE=DATE:20260618
DTSTAMP:20260424T185951
CREATED:20240906T182627Z
LAST-MODIFIED:20260422T165409Z
UID:10000785-1781681400-1781715600@notary.net
SUMMARY:Live California Notary Class - Fresno
DESCRIPTION:Follow this link to register for your in-person notary class: https://www.NotaryLearningCenter.com/ca/npNotary_seminar_16.html 
URL:https://notary.net/seminar/live-california-notary-class-fresno-2/2026-06-17/
LOCATION:Fresno – Hampton Inn\, 327 E. Fir Avenue\, Fresno\, CA\, 93720\, United States
ORGANIZER;CN="Notary Learning Center":MAILTO:seminars@NotaryLearningCenter.com
GEO:36.8384762;-119.7825533
X-APPLE-STRUCTURED-LOCATION;VALUE=URI;X-ADDRESS=Fresno – Hampton Inn 327 E. Fir Avenue Fresno CA 93720 United States;X-APPLE-RADIUS=500;X-TITLE=327 E. Fir Avenue:geo:-119.7825533,36.8384762
END:VEVENT
BEGIN:VEVENT
DTSTART;VALUE=DATE:20260617
DTEND;VALUE=DATE:20260618
DTSTAMP:20260424T185951
CREATED:20250905T215615Z
LAST-MODIFIED:20260422T150122Z
UID:10000777-1781683200-1781715600@notary.net
SUMMARY:Live California Notary Class – Concord
DESCRIPTION:Follow this link to register for your in-person notary class:  https://www.NotaryLearningCenter.com/ca/npNotary_seminar_14.html
URL:https://notary.net/seminar/live-california-notary-class-concord/2026-06-17/
LOCATION:Concord – Plaza Hotel\, 45 John Glenn Drive\, Concord\, 94520\, United States
ORGANIZER;CN="Notary Learning Center":MAILTO:seminars@NotaryLearningCenter.com
GEO:37.9804651;-122.0576062
X-APPLE-STRUCTURED-LOCATION;VALUE=URI;X-ADDRESS=Concord – Plaza Hotel 45 John Glenn Drive Concord 94520 United States;X-APPLE-RADIUS=500;X-TITLE=45 John Glenn Drive:geo:-122.0576062,37.9804651
END:VEVENT
END:VCALENDAR