BEGIN:VCALENDAR
VERSION:2.0
PRODID:-//Notary.net - ECPv6.15.20//NONSGML v1.0//EN
CALSCALE:GREGORIAN
METHOD:PUBLISH
X-WR-CALNAME:Notary.net
X-ORIGINAL-URL:https://notary.net
X-WR-CALDESC:Events for Notary.net
REFRESH-INTERVAL;VALUE=DURATION:PT1H
X-Robots-Tag:noindex
X-PUBLISHED-TTL:PT1H
BEGIN:VTIMEZONE
TZID:America/Chicago
BEGIN:DAYLIGHT
TZOFFSETFROM:-0600
TZOFFSETTO:-0500
TZNAME:CDT
DTSTART:20250309T080000
END:DAYLIGHT
BEGIN:STANDARD
TZOFFSETFROM:-0500
TZOFFSETTO:-0600
TZNAME:CST
DTSTART:20251102T070000
END:STANDARD
BEGIN:DAYLIGHT
TZOFFSETFROM:-0600
TZOFFSETTO:-0500
TZNAME:CDT
DTSTART:20260308T080000
END:DAYLIGHT
BEGIN:STANDARD
TZOFFSETFROM:-0500
TZOFFSETTO:-0600
TZNAME:CST
DTSTART:20261101T070000
END:STANDARD
BEGIN:DAYLIGHT
TZOFFSETFROM:-0600
TZOFFSETTO:-0500
TZNAME:CDT
DTSTART:20270314T080000
END:DAYLIGHT
BEGIN:STANDARD
TZOFFSETFROM:-0500
TZOFFSETTO:-0600
TZNAME:CST
DTSTART:20271107T070000
END:STANDARD
END:VTIMEZONE
BEGIN:VTIMEZONE
TZID:America/Los_Angeles
BEGIN:DAYLIGHT
TZOFFSETFROM:-0800
TZOFFSETTO:-0700
TZNAME:PDT
DTSTART:20250309T100000
END:DAYLIGHT
BEGIN:STANDARD
TZOFFSETFROM:-0700
TZOFFSETTO:-0800
TZNAME:PST
DTSTART:20251102T090000
END:STANDARD
BEGIN:DAYLIGHT
TZOFFSETFROM:-0800
TZOFFSETTO:-0700
TZNAME:PDT
DTSTART:20260308T100000
END:DAYLIGHT
BEGIN:STANDARD
TZOFFSETFROM:-0700
TZOFFSETTO:-0800
TZNAME:PST
DTSTART:20261101T090000
END:STANDARD
BEGIN:DAYLIGHT
TZOFFSETFROM:-0800
TZOFFSETTO:-0700
TZNAME:PDT
DTSTART:20270314T100000
END:DAYLIGHT
BEGIN:STANDARD
TZOFFSETFROM:-0700
TZOFFSETTO:-0800
TZNAME:PST
DTSTART:20271107T090000
END:STANDARD
END:VTIMEZONE
BEGIN:VEVENT
DTSTART;VALUE=DATE:20260529
DTEND;VALUE=DATE:20260530
DTSTAMP:20260424T113355
CREATED:20250121T210305Z
LAST-MODIFIED:20260422T143453Z
UID:10000772-1780041600-1780074000@notary.net
SUMMARY:Live California Notary Class – San Jose
DESCRIPTION:
URL:https://notary.net/seminar/live-california-notary-class-san-jose-2/2026-05-29/
LOCATION:Hyatt House – San Jose\, 75 Headquarters Drive\, San Jose\, CA\, 95134\, United States
ORGANIZER;CN="Notary Learning Center":MAILTO:seminars@NotaryLearningCenter.com
GEO:37.4165665;-121.9529547
X-APPLE-STRUCTURED-LOCATION;VALUE=URI;X-ADDRESS=Hyatt House – San Jose 75 Headquarters Drive San Jose CA 95134 United States;X-APPLE-RADIUS=500;X-TITLE=75 Headquarters Drive:geo:-121.9529547,37.4165665
END:VEVENT
BEGIN:VEVENT
DTSTART;VALUE=DATE:20260521
DTEND;VALUE=DATE:20260522
DTSTAMP:20260424T113355
CREATED:20250912T004806Z
LAST-MODIFIED:20260422T145853Z
UID:10000774-1779321600-1779407999@notary.net
SUMMARY:Live California Notary Class – Carlsbad
DESCRIPTION:Follow this link to register for your in-person notary class: https://www.NotaryLearningCenter.com/ca/npNotary_seminar_12.html 
URL:https://notary.net/seminar/live-california-notary-class-carlsbad/2026-05-21/
LOCATION:Holiday Inn Express & Suites   Carlsbad Beach\, 751 Raintree Drive\, Carlsbad\, 92011\, United States
CATEGORIES:California,California Notary Class,California Notary Exam
ORGANIZER;CN="Notary Learning Center":MAILTO:seminars@NotaryLearningCenter.com
GEO:33.1036111;-117.3127761
X-APPLE-STRUCTURED-LOCATION;VALUE=URI;X-ADDRESS=Holiday Inn Express & Suites   Carlsbad Beach 751 Raintree Drive Carlsbad 92011 United States;X-APPLE-RADIUS=500;X-TITLE=751 Raintree Drive:geo:-117.3127761,33.1036111
END:VEVENT
BEGIN:VEVENT
DTSTART;VALUE=DATE:20260520
DTEND;VALUE=DATE:20260521
DTSTAMP:20260424T113355
CREATED:20260422T171019Z
LAST-MODIFIED:20260422T171019Z
UID:10000786-1779235200-1779321599@notary.net
SUMMARY:Live California Notary Class - Fresno
DESCRIPTION:Follow this link to register for your in-person notary class: https://www.NotaryLearningCenter.com/ca/npNotary_seminar_16.html 
URL:https://notary.net/seminar/live-california-notary-class-fresno-3/
LOCATION:DoubleTree – Fresno Convention Center\, 2233 Cesar Chavez Blvd.\, Fresno\, 93721\, United States
ORGANIZER;CN="Notary Learning Center":MAILTO:seminars@NotaryLearningCenter.com
GEO:36.7323503;-119.78369
X-APPLE-STRUCTURED-LOCATION;VALUE=URI;X-ADDRESS=DoubleTree – Fresno Convention Center 2233 Cesar Chavez Blvd. Fresno 93721 United States;X-APPLE-RADIUS=500;X-TITLE=2233 Cesar Chavez Blvd.:geo:-119.78369,36.7323503
END:VEVENT
BEGIN:VEVENT
DTSTART;VALUE=DATE:20260520
DTEND;VALUE=DATE:20260521
DTSTAMP:20260424T113355
CREATED:20250905T215615Z
LAST-MODIFIED:20260422T150122Z
UID:10000776-1779235200-1779321599@notary.net
SUMMARY:Live California Notary Class – Concord
DESCRIPTION:Follow this link to register for your in-person notary class:  https://www.NotaryLearningCenter.com/ca/npNotary_seminar_14.html
URL:https://notary.net/seminar/live-california-notary-class-concord/2026-05-20/
LOCATION:Concord – Plaza Hotel\, 45 John Glenn Drive\, Concord\, 94520\, United States
ORGANIZER;CN="Notary Learning Center":MAILTO:seminars@NotaryLearningCenter.com
GEO:37.9804651;-122.0576062
X-APPLE-STRUCTURED-LOCATION;VALUE=URI;X-ADDRESS=Concord – Plaza Hotel 45 John Glenn Drive Concord 94520 United States;X-APPLE-RADIUS=500;X-TITLE=45 John Glenn Drive:geo:-122.0576062,37.9804651
END:VEVENT
BEGIN:VEVENT
DTSTART;VALUE=DATE:20260519
DTEND;VALUE=DATE:20260520
DTSTAMP:20260424T113355
CREATED:20260422T141142Z
LAST-MODIFIED:20260422T141259Z
UID:10000710-1779148800-1779235199@notary.net
SUMMARY:Live California Notary Class - Buena Park\, CA
DESCRIPTION:
URL:https://notary.net/seminar/live-california-notary-class-buena-park-ca-2/2026-05-19/
LOCATION:Buena Park – Knott’s Berry Farm Hotel\, 7675 Crescent Avenue\, Buena Park\, CA\, 90620\, United States
ORGANIZER;CN="Notary Learning Center":MAILTO:seminars@NotaryLearningCenter.com
GEO:33.8403608;-117.9990621
X-APPLE-STRUCTURED-LOCATION;VALUE=URI;X-ADDRESS=Buena Park – Knott’s Berry Farm Hotel 7675 Crescent Avenue Buena Park CA 90620 United States;X-APPLE-RADIUS=500;X-TITLE=7675 Crescent Avenue:geo:-117.9990621,33.8403608
END:VEVENT
BEGIN:VEVENT
DTSTART;VALUE=DATE:20260516
DTEND;VALUE=DATE:20260517
DTSTAMP:20260424T113355
CREATED:20260422T151620Z
LAST-MODIFIED:20260422T151930Z
UID:10000780-1778889600-1778975999@notary.net
SUMMARY:Live California Notary Class - Santa Ana
DESCRIPTION:
URL:https://notary.net/seminar/live-california-notary-class-santa-ana/
LOCATION:Holiday Inn – Orange County Airport\, 2726 S. Grand Avenue\, Santa Ana\, 92705\, United States
ORGANIZER;CN="Notary Learning Center":MAILTO:seminars@NotaryLearningCenter.com
GEO:33.7101073;-117.8519885
X-APPLE-STRUCTURED-LOCATION;VALUE=URI;X-ADDRESS=Holiday Inn – Orange County Airport 2726 S. Grand Avenue Santa Ana 92705 United States;X-APPLE-RADIUS=500;X-TITLE=2726 S. Grand Avenue:geo:-117.8519885,33.7101073
END:VEVENT
BEGIN:VEVENT
DTSTART;VALUE=DATE:20260514
DTEND;VALUE=DATE:20260515
DTSTAMP:20260424T113355
CREATED:20250121T205722Z
LAST-MODIFIED:20260422T142303Z
UID:10000769-1778716800-1778803199@notary.net
SUMMARY:Live California Notary Class – San Mateo
DESCRIPTION:
URL:https://notary.net/seminar/live-california-notary-class-san-mateo-2/2026-05-14/
LOCATION:San Mateo – Hilton Garden Inn\, 2000 Bridgepointe Circle\, San Mateo\, CA\, 94404\, United States
ORGANIZER;CN="Notary Learning Center":MAILTO:seminars@NotaryLearningCenter.com
GEO:37.5640221;-122.282264
X-APPLE-STRUCTURED-LOCATION;VALUE=URI;X-ADDRESS=San Mateo – Hilton Garden Inn 2000 Bridgepointe Circle San Mateo CA 94404 United States;X-APPLE-RADIUS=500;X-TITLE=2000 Bridgepointe Circle:geo:-122.282264,37.5640221
END:VEVENT
BEGIN:VEVENT
DTSTART;VALUE=DATE:20260512
DTEND;VALUE=DATE:20260513
DTSTAMP:20260424T113355
CREATED:20250616T221606Z
LAST-MODIFIED:20260422T140308Z
UID:10000763-1778544000-1778630399@notary.net
SUMMARY:Live California Notary Class – Brea
DESCRIPTION:
URL:https://notary.net/seminar/live-california-notary-class-brea/2026-05-12/
LOCATION:Embassy Suites – Brea\, 900 E. Birch Street\, Brea\, 92821\, United States
ORGANIZER;CN="Notary Learning Center":MAILTO:seminars@NotaryLearningCenter.com
GEO:33.9173873;-117.8876324
X-APPLE-STRUCTURED-LOCATION;VALUE=URI;X-ADDRESS=Embassy Suites – Brea 900 E. Birch Street Brea 92821 United States;X-APPLE-RADIUS=500;X-TITLE=900 E. Birch Street:geo:-117.8876324,33.9173873
END:VEVENT
BEGIN:VEVENT
DTSTART;TZID=America/Chicago:20260509T083000
DTEND;TZID=America/Chicago:20260509T173000
DTSTAMP:20260424T113355
CREATED:20260111T002056Z
LAST-MODIFIED:20260111T002056Z
UID:10000760-1778315400-1778347800@notary.net
SUMMARY:Live California Notary Class – Auburn
DESCRIPTION:Please visit https://psa.asapconnected.comfor more information and to register online.  \nOr call 530-885-8585 ext. 6016  to register over the phone. \nYou may also email register@puhsd.k12.ca.us
URL:https://notary.net/seminar/live-california-notary-class-auburn/
LOCATION:Auburn – Placer School for Adults\, 3775 Richardson Drive\, Auburn\, CA\, 95602\, United States
CATEGORIES:California,California Notary Class,California Notary Exam
ORGANIZER;CN="CALIFORNIA NOTARY TRAINING CENTER":MAILTO:info@canotarytrainingcenter.com
GEO:38.9522687;-121.1078849
X-APPLE-STRUCTURED-LOCATION;VALUE=URI;X-ADDRESS=Auburn – Placer School for Adults 3775 Richardson Drive Auburn CA 95602 United States;X-APPLE-RADIUS=500;X-TITLE=3775 Richardson Drive:geo:-121.1078849,38.9522687
END:VEVENT
BEGIN:VEVENT
DTSTART;VALUE=DATE:20260508
DTEND;VALUE=DATE:20260509
DTSTAMP:20260424T113355
CREATED:20250121T220402Z
LAST-MODIFIED:20260422T153140Z
UID:10000781-1778198400-1778284799@notary.net
SUMMARY:Live California Notary Class - Dublin
DESCRIPTION:
URL:https://notary.net/seminar/live-california-notary-class-dublin/2026-05-08/
LOCATION:Dublin – Holiday Inn\, 6680 Regional Street\, Dublin\, 94568
ORGANIZER;CN="Notary Learning Center":MAILTO:seminars@NotaryLearningCenter.com
GEO:37.700083;-121.9332228
X-APPLE-STRUCTURED-LOCATION;VALUE=URI;X-ADDRESS=Dublin – Holiday Inn 6680 Regional Street Dublin 94568;X-APPLE-RADIUS=500;X-TITLE=6680 Regional Street:geo:-121.9332228,37.700083
END:VEVENT
BEGIN:VEVENT
DTSTART;VALUE=DATE:20260507
DTEND;VALUE=DATE:20260508
DTSTAMP:20260424T113355
CREATED:20240906T181609Z
LAST-MODIFIED:20260422T141845Z
UID:10000766-1778112000-1778198399@notary.net
SUMMARY:Live California Notary Class - Glendale
DESCRIPTION:
URL:https://notary.net/seminar/live-california-notary-class-glendale-ca-2/2026-05-07/
LOCATION:Glendale – Embassy Suites\, 800 North Central Avenue\, Glendale\, CA\, 91203\, United States
ORGANIZER;CN="Notary Learning Center":MAILTO:seminars@NotaryLearningCenter.com
GEO:34.1577555;-118.257596
X-APPLE-STRUCTURED-LOCATION;VALUE=URI;X-ADDRESS=Glendale – Embassy Suites 800 North Central Avenue Glendale CA 91203 United States;X-APPLE-RADIUS=500;X-TITLE=800 North Central Avenue:geo:-118.257596,34.1577555
END:VEVENT
BEGIN:VEVENT
DTSTART;VALUE=DATE:20260505
DTEND;VALUE=DATE:20260506
DTSTAMP:20260424T113355
CREATED:20250121T223557Z
LAST-MODIFIED:20260422T213846Z
UID:10000790-1777939200-1778025599@notary.net
SUMMARY:Live California Notary Class - Oxnard
DESCRIPTION:Follow this link to register for your in-person notary class: https://www.NotaryLearningCenter.com/ca/npNotary_seminar_11.html 
URL:https://notary.net/seminar/live-california-notary-class-oxnard/2026-05-05/
LOCATION:Oxnard – Holiday Inn\, 2155 E. Convention Center Way\, Oxnard\, CA\, 93036\, United States
ORGANIZER;CN="Notary Learning Center":MAILTO:seminars@NotaryLearningCenter.com
GEO:34.2328937;-119.179765
X-APPLE-STRUCTURED-LOCATION;VALUE=URI;X-ADDRESS=Oxnard – Holiday Inn 2155 E. Convention Center Way Oxnard CA 93036 United States;X-APPLE-RADIUS=500;X-TITLE=2155 E. Convention Center Way:geo:-119.179765,34.2328937
END:VEVENT
BEGIN:VEVENT
DTSTART;VALUE=DATE:20260502
DTEND;VALUE=DATE:20260503
DTSTAMP:20260424T113355
CREATED:20260422T211526Z
LAST-MODIFIED:20260422T211526Z
UID:10000788-1777680000-1777766399@notary.net
SUMMARY:Live California Notary Class - Rancho Cucamonga
DESCRIPTION:
URL:https://notary.net/seminar/live-california-notary-class-rancho-cucamonga/2026-05-02/
LOCATION:Four Points by Sheraton – Rancho Cucamonga\, 11960 Foothill Boulevard\, Rancho Cucamonga\, 91739\, United States
ORGANIZER;CN="Notary Learning Center":MAILTO:seminars@NotaryLearningCenter.com
GEO:34.1069807;-117.542843
X-APPLE-STRUCTURED-LOCATION;VALUE=URI;X-ADDRESS=Four Points by Sheraton – Rancho Cucamonga 11960 Foothill Boulevard Rancho Cucamonga 91739 United States;X-APPLE-RADIUS=500;X-TITLE=11960 Foothill Boulevard:geo:-117.542843,34.1069807
END:VEVENT
BEGIN:VEVENT
DTSTART;VALUE=DATE:20260429
DTEND;VALUE=DATE:20260430
DTSTAMP:20260424T113355
CREATED:20260422T153522Z
LAST-MODIFIED:20260422T153522Z
UID:10000783-1777420800-1777507199@notary.net
SUMMARY:Live California Notary Class - Emeryville
DESCRIPTION:
URL:https://notary.net/seminar/live-california-notary-class-emeryville/
LOCATION:Four Points by Sheraton San Francisco Bay Bridge\, 1603 Powell Street\, Emeryville\, 94608\, United States
ORGANIZER;CN="Notary Learning Center":MAILTO:seminars@NotaryLearningCenter.com
GEO:37.8381895;-122.2939205
X-APPLE-STRUCTURED-LOCATION;VALUE=URI;X-ADDRESS=Four Points by Sheraton San Francisco Bay Bridge 1603 Powell Street Emeryville 94608 United States;X-APPLE-RADIUS=500;X-TITLE=1603 Powell Street:geo:-122.2939205,37.8381895
END:VEVENT
BEGIN:VEVENT
DTSTART;VALUE=DATE:20260429
DTEND;VALUE=DATE:20260430
DTSTAMP:20260424T113355
CREATED:20250121T215405Z
LAST-MODIFIED:20260422T150334Z
UID:10000778-1777420800-1777507199@notary.net
SUMMARY:Live California Notary Class - Corona
DESCRIPTION:Follow this link to register for your in-person notary class: https://www.NotaryLearningCenter.com/ca/npNotary_seminar_17.html
URL:https://notary.net/seminar/live-california-notary-class-corona/2026-04-29/
LOCATION:Corona – Dos Lagos Golf Course\, 4507 Cabot Drive\, Corona\, CA\, 92883\, United States
ORGANIZER;CN="Notary Learning Center":MAILTO:seminars@NotaryLearningCenter.com
GEO:33.8136674;-117.5034661
X-APPLE-STRUCTURED-LOCATION;VALUE=URI;X-ADDRESS=Corona – Dos Lagos Golf Course 4507 Cabot Drive Corona CA 92883 United States;X-APPLE-RADIUS=500;X-TITLE=4507 Cabot Drive:geo:-117.5034661,33.8136674
END:VEVENT
BEGIN:VEVENT
DTSTART;TZID=America/Los_Angeles:20260425T083000
DTEND;TZID=America/Los_Angeles:20260425T123000
DTSTAMP:20260424T113355
CREATED:20240506T164434Z
LAST-MODIFIED:20260113T173522Z
UID:10000761-1777105800-1777120200@notary.net
SUMMARY:Online California Loan Signing Class Live via ZOOM
DESCRIPTION:Please Click Here to Register \nOr call (855) 291-9516 to register over the phone.
URL:https://notary.net/seminar/online-loan-signing-class-2/2026-04-25/
LOCATION:Online – Zoom
CATEGORIES:California
ORGANIZER;CN="CALIFORNIA NOTARY TRAINING CENTER":MAILTO:info@canotarytrainingcenter.com
END:VEVENT
BEGIN:VEVENT
DTSTART;VALUE=DATE:20260425
DTEND;VALUE=DATE:20260426
DTSTAMP:20260424T113355
CREATED:20250121T210305Z
LAST-MODIFIED:20260422T143453Z
UID:10000771-1777075200-1777161599@notary.net
SUMMARY:Live California Notary Class – San Jose
DESCRIPTION:
URL:https://notary.net/seminar/live-california-notary-class-san-jose-2/2026-04-25/
LOCATION:Hyatt House – San Jose\, 75 Headquarters Drive\, San Jose\, CA\, 95134\, United States
ORGANIZER;CN="Notary Learning Center":MAILTO:seminars@NotaryLearningCenter.com
GEO:37.4165665;-121.9529547
X-APPLE-STRUCTURED-LOCATION;VALUE=URI;X-ADDRESS=Hyatt House – San Jose 75 Headquarters Drive San Jose CA 95134 United States;X-APPLE-RADIUS=500;X-TITLE=75 Headquarters Drive:geo:-121.9529547,37.4165665
END:VEVENT
BEGIN:VEVENT
DTSTART;VALUE=DATE:20260425
DTEND;VALUE=DATE:20260426
DTSTAMP:20260424T113355
CREATED:20240906T182627Z
LAST-MODIFIED:20260422T165409Z
UID:10000784-1777075200-1777161599@notary.net
SUMMARY:Live California Notary Class - Fresno
DESCRIPTION:Follow this link to register for your in-person notary class: https://www.NotaryLearningCenter.com/ca/npNotary_seminar_16.html 
URL:https://notary.net/seminar/live-california-notary-class-fresno-2/2026-04-25/
LOCATION:Fresno – Hampton Inn\, 327 E. Fir Avenue\, Fresno\, CA\, 93720\, United States
ORGANIZER;CN="Notary Learning Center":MAILTO:seminars@NotaryLearningCenter.com
GEO:36.8384762;-119.7825533
X-APPLE-STRUCTURED-LOCATION;VALUE=URI;X-ADDRESS=Fresno – Hampton Inn 327 E. Fir Avenue Fresno CA 93720 United States;X-APPLE-RADIUS=500;X-TITLE=327 E. Fir Avenue:geo:-119.7825533,36.8384762
END:VEVENT
BEGIN:VEVENT
DTSTART;TZID=America/Chicago:20260418T083000
DTEND;TZID=America/Chicago:20260418T173000
DTSTAMP:20260424T113355
CREATED:20260111T001720Z
LAST-MODIFIED:20260111T001914Z
UID:10000759-1776501000-1776533400@notary.net
SUMMARY:Live California Notary Class – Fairfield
DESCRIPTION:Please visit https://fairfieldas.asapconnected.com for more information and to register online.  \nOr call (707) 421-4155  to register over the phone.
URL:https://notary.net/seminar/live-california-notary-class-fairfield/
LOCATION:Fairfield – Fairfield-Suisun Adult School\, Travis Boulevard\, Fairfield\, CA\, 94533\, United States
CATEGORIES:California,California Notary Class,California Notary Exam
ORGANIZER;CN="CALIFORNIA NOTARY TRAINING CENTER":MAILTO:info@canotarytrainingcenter.com
GEO:38.25984;-122.04367
X-APPLE-STRUCTURED-LOCATION;VALUE=URI;X-ADDRESS=Fairfield – Fairfield-Suisun Adult School Travis Boulevard Fairfield CA 94533 United States;X-APPLE-RADIUS=500;X-TITLE=Travis Boulevard:geo:-122.04367,38.25984
END:VEVENT
BEGIN:VEVENT
DTSTART;TZID=America/Chicago:20260411T083000
DTEND;TZID=America/Chicago:20260411T173000
DTSTAMP:20260424T113355
CREATED:20260111T001426Z
LAST-MODIFIED:20260111T001712Z
UID:10000758-1775896200-1775928600@notary.net
SUMMARY:Live California Notary Class – Pittsburg
DESCRIPTION:Please visit https://paec.pittsburgusd.net/Course-Offerings for more information and to register online.  \nOr call 925-473-2400 ext.4962  to register over the phone.
URL:https://notary.net/seminar/live-california-notary-class-pittsburg/
LOCATION:Pittsburg – Pittsburg Adult Education\, 1151 Stoneman Avenue\, Pittsburg\, CA\, 94565\, United States
CATEGORIES:California,California Notary Class,California Notary Exam
ORGANIZER;CN="CALIFORNIA NOTARY TRAINING CENTER":MAILTO:info@canotarytrainingcenter.com
GEO:38.0053591;-121.8764292
X-APPLE-STRUCTURED-LOCATION;VALUE=URI;X-ADDRESS=Pittsburg – Pittsburg Adult Education 1151 Stoneman Avenue Pittsburg CA 94565 United States;X-APPLE-RADIUS=500;X-TITLE=1151 Stoneman Avenue:geo:-121.8764292,38.0053591
END:VEVENT
BEGIN:VEVENT
DTSTART;VALUE=DATE:20260331
DTEND;VALUE=DATE:20260401
DTSTAMP:20260424T113355
CREATED:20250121T225033Z
LAST-MODIFIED:20260110T000645Z
UID:10000752-1774944000-1774976400@notary.net
SUMMARY:Live California Notary Class - Sacramento
DESCRIPTION:Follow this link to register for your in-person notary class: https://www.NotaryLearningCenter.com/ca/npNotary_seminar_15.html 
URL:https://notary.net/seminar/live-california-notary-class-sacramento/2026-03-31/
LOCATION:Sacramento – Four Points Sheraton\, 4900 Duckhorn Drive\, Sacramento\, CA\, 95834\, United States
ORGANIZER;CN="Notary Learning Center":MAILTO:seminars@NotaryLearningCenter.com
GEO:38.6550608;-121.5388736
X-APPLE-STRUCTURED-LOCATION;VALUE=URI;X-ADDRESS=Sacramento – Four Points Sheraton 4900 Duckhorn Drive Sacramento CA 95834 United States;X-APPLE-RADIUS=500;X-TITLE=4900 Duckhorn Drive:geo:-121.5388736,38.6550608
END:VEVENT
BEGIN:VEVENT
DTSTART;TZID=America/Chicago:20260321T083000
DTEND;TZID=America/Chicago:20260321T173000
DTSTAMP:20260424T113355
CREATED:20250920T174300Z
LAST-MODIFIED:20260110T235414Z
UID:10000701-1774081800-1774114200@notary.net
SUMMARY:Live California Notary Class – Napa
DESCRIPTION:Please call (707) 253-3594 to register over the phone. \nOr visit https://adulted.nvusd.org/notary-public for more information and to register online.
URL:https://notary.net/seminar/live-california-notary-class-napa-2/
LOCATION:Napa – Napa Valley Adult Education\, 1600 Lincoln Avenue\, Napa\, CA\, 94558\, United States
CATEGORIES:California,California Notary Class,California Notary Exam
ORGANIZER;CN="CALIFORNIA NOTARY TRAINING CENTER":MAILTO:info@canotarytrainingcenter.com
GEO:38.3084813;-122.2980393
X-APPLE-STRUCTURED-LOCATION;VALUE=URI;X-ADDRESS=Napa – Napa Valley Adult Education 1600 Lincoln Avenue Napa CA 94558 United States;X-APPLE-RADIUS=500;X-TITLE=1600 Lincoln Avenue:geo:-122.2980393,38.3084813
END:VEVENT
BEGIN:VEVENT
DTSTART;VALUE=DATE:20260321
DTEND;VALUE=DATE:20260322
DTSTAMP:20260424T113355
CREATED:20250121T224522Z
LAST-MODIFIED:20260110T000254Z
UID:10000749-1774078200-1774112400@notary.net
SUMMARY:Live California Notary Class - Roseville
DESCRIPTION:Follow this link to register for your in-person notary class: https://www.NotaryLearningCenter.com/ca/npNotary_seminar_15.html 
URL:https://notary.net/seminar/live-california-notary-class-roseville/2026-03-21/
LOCATION:Roseville – Best Western Plus\, 130 N. Sunrise Avenue\, Roseville\, CA\, 95661\, United States
ORGANIZER;CN="Notary Learning Center":MAILTO:seminars@NotaryLearningCenter.com
GEO:38.7467518;-121.2679568
X-APPLE-STRUCTURED-LOCATION;VALUE=URI;X-ADDRESS=Roseville – Best Western Plus 130 N. Sunrise Avenue Roseville CA 95661 United States;X-APPLE-RADIUS=500;X-TITLE=130 N. Sunrise Avenue:geo:-121.2679568,38.7467518
END:VEVENT
BEGIN:VEVENT
DTSTART;VALUE=DATE:20260321
DTEND;VALUE=DATE:20260322
DTSTAMP:20260424T113355
CREATED:20250121T214805Z
LAST-MODIFIED:20260109T235742Z
UID:10000747-1774078200-1774112400@notary.net
SUMMARY:Live California Notary Class - Torrance\, CA
DESCRIPTION:Follow this link to register for your in-person notary class: https://www.NotaryLearningCenter.com/ca/npNotary_seminar_10.html 
URL:https://notary.net/seminar/live-california-notary-class-torrance-ca/2026-03-21/
LOCATION:Torrance – Miyako Hybrid Hotel\, 21381 S. Western Avenue\, Torrance\, CA\, 90501\, United States
ORGANIZER;CN="Notary Learning Center":MAILTO:seminars@NotaryLearningCenter.com
GEO:33.8346391;-118.3095735
X-APPLE-STRUCTURED-LOCATION;VALUE=URI;X-ADDRESS=Torrance – Miyako Hybrid Hotel 21381 S. Western Avenue Torrance CA 90501 United States;X-APPLE-RADIUS=500;X-TITLE=21381 S. Western Avenue:geo:-118.3095735,33.8346391
END:VEVENT
BEGIN:VEVENT
DTSTART;TZID=America/Chicago:20260314T083000
DTEND;TZID=America/Chicago:20260314T173000
DTSTAMP:20260424T113355
CREATED:20260111T000104Z
LAST-MODIFIED:20260111T000104Z
UID:10000757-1773477000-1773509400@notary.net
SUMMARY:Live California Notary Class – Fresno
DESCRIPTION:Please call (559) 327-2876  to register over the phone. \nOr visit https://cloviscommunityed.augusoft.net/ for more information and to register online.
URL:https://notary.net/seminar/live-california-notary-class-fresno/
LOCATION:Fresno – Clovis Adult Education\, 2350 W Shaw Ave #121\, Fresno\, CA\, 93711\, United States
CATEGORIES:California,California Notary Class,California Notary Exam
ORGANIZER;CN="CALIFORNIA NOTARY TRAINING CENTER":MAILTO:info@canotarytrainingcenter.com
GEO:36.8088475;-119.8337843
X-APPLE-STRUCTURED-LOCATION;VALUE=URI;X-ADDRESS=Fresno – Clovis Adult Education 2350 W Shaw Ave #121 Fresno CA 93711 United States;X-APPLE-RADIUS=500;X-TITLE=2350 W Shaw Ave #121:geo:-119.8337843,36.8088475
END:VEVENT
BEGIN:VEVENT
DTSTART;VALUE=DATE:20260314
DTEND;VALUE=DATE:20260315
DTSTAMP:20260424T113355
CREATED:20250121T225619Z
LAST-MODIFIED:20260110T000945Z
UID:10000755-1773473400-1773507600@notary.net
SUMMARY:Live California Notary Class - San Diego
DESCRIPTION:Follow this link to register for your in-person notary class: https://www.NotaryLearningCenter.com/ca/npNotary_seminar_12.html
URL:https://notary.net/seminar/live-california-notary-class-san-diego/2026-03-14/
LOCATION:San Diego – DoubleTree Hotel\, 7450 Hazard Center Drive\, San Diego\, CA\, 92108\, United States
ORGANIZER;CN="Notary Learning Center":MAILTO:seminars@NotaryLearningCenter.com
GEO:32.7698898;-117.1602062
X-APPLE-STRUCTURED-LOCATION;VALUE=URI;X-ADDRESS=San Diego – DoubleTree Hotel 7450 Hazard Center Drive San Diego CA 92108 United States;X-APPLE-RADIUS=500;X-TITLE=7450 Hazard Center Drive:geo:-117.1602062,32.7698898
END:VEVENT
BEGIN:VEVENT
DTSTART;TZID=America/Chicago:20260307T083000
DTEND;TZID=America/Chicago:20260307T173000
DTSTAMP:20260424T113355
CREATED:20250921T040717Z
LAST-MODIFIED:20260110T235058Z
UID:10000704-1772872200-1772904600@notary.net
SUMMARY:Live California Notary Class - Sacramento
DESCRIPTION:Please click this link to register. \n  \nOr you may call (916) 793-2282 to register.
URL:https://notary.net/seminar/live-california-notary-class-sacramento-elk-grove/
LOCATION:Sacramento – Elk Grove Adult Education\, 8401-B Gerber Rd\, Sacramento\, 95828\, United States
CATEGORIES:California,California Notary Class,California Notary Exam
ORGANIZER;CN="CALIFORNIA NOTARY TRAINING CENTER":MAILTO:info@canotarytrainingcenter.com
GEO:38.482279;-121.3942899
X-APPLE-STRUCTURED-LOCATION;VALUE=URI;X-ADDRESS=Sacramento – Elk Grove Adult Education 8401-B Gerber Rd Sacramento 95828 United States;X-APPLE-RADIUS=500;X-TITLE=8401-B Gerber Rd:geo:-121.3942899,38.482279
END:VEVENT
BEGIN:VEVENT
DTSTART;VALUE=DATE:20260307
DTEND;VALUE=DATE:20260308
DTSTAMP:20260424T113355
CREATED:20250121T223317Z
LAST-MODIFIED:20260109T234520Z
UID:10000742-1772868600-1772902800@notary.net
SUMMARY:Live California Notary Class - Ontario
DESCRIPTION:Follow this link to register for your in-person notary class: https://www.NotaryLearningCenter.com/ca/npNotary_seminar_17.html
URL:https://notary.net/seminar/live-california-notary-class-ontario/2026-03-07/
LOCATION:Ontario – Holiday Inn\, 2155 E. Convention Center Way\, Ontario\, CA\, 91764\, United States
ORGANIZER;CN="Notary Learning Center":MAILTO:seminars@NotaryLearningCenter.com
GEO:34.0663319;-117.6023172
X-APPLE-STRUCTURED-LOCATION;VALUE=URI;X-ADDRESS=Ontario – Holiday Inn 2155 E. Convention Center Way Ontario CA 91764 United States;X-APPLE-RADIUS=500;X-TITLE=2155 E. Convention Center Way:geo:-117.6023172,34.0663319
END:VEVENT
BEGIN:VEVENT
DTSTART;TZID=America/Chicago:20260228T083000
DTEND;TZID=America/Chicago:20260228T173000
DTSTAMP:20260424T113355
CREATED:20250920T170904Z
LAST-MODIFIED:20260110T234503Z
UID:10000698-1772267400-1772299800@notary.net
SUMMARY:Live California Notary Class – Castro Valley
DESCRIPTION:Please call (510) 886-1000 to register over the phone. \nOr visit cvadult.asapconnected.com for more information and to register online.
URL:https://notary.net/seminar/live-california-notary-class-castro-valley-2/
LOCATION:Castro Valley – C.V. Adult & Career Education\, Alma Avenue\, Castro Valley\, California\, 94546\, United States
CATEGORIES:California,California Notary Class,California Notary Exam
ORGANIZER;CN="CALIFORNIA NOTARY TRAINING CENTER":MAILTO:info@canotarytrainingcenter.com
GEO:37.7081322;-122.0712097
X-APPLE-STRUCTURED-LOCATION;VALUE=URI;X-ADDRESS=Castro Valley – C.V. Adult & Career Education Alma Avenue Castro Valley California 94546 United States;X-APPLE-RADIUS=500;X-TITLE=Alma Avenue:geo:-122.0712097,37.7081322
END:VEVENT
BEGIN:VEVENT
DTSTART;VALUE=DATE:20260228
DTEND;VALUE=DATE:20260301
DTSTAMP:20260424T113355
CREATED:20250121T225033Z
LAST-MODIFIED:20260110T000645Z
UID:10000751-1772263800-1772298000@notary.net
SUMMARY:Live California Notary Class - Sacramento
DESCRIPTION:Follow this link to register for your in-person notary class: https://www.NotaryLearningCenter.com/ca/npNotary_seminar_15.html 
URL:https://notary.net/seminar/live-california-notary-class-sacramento/2026-02-28/
LOCATION:Sacramento – Four Points Sheraton\, 4900 Duckhorn Drive\, Sacramento\, CA\, 95834\, United States
ORGANIZER;CN="Notary Learning Center":MAILTO:seminars@NotaryLearningCenter.com
GEO:38.6550608;-121.5388736
X-APPLE-STRUCTURED-LOCATION;VALUE=URI;X-ADDRESS=Sacramento – Four Points Sheraton 4900 Duckhorn Drive Sacramento CA 95834 United States;X-APPLE-RADIUS=500;X-TITLE=4900 Duckhorn Drive:geo:-121.5388736,38.6550608
END:VEVENT
END:VCALENDAR